BEGIN:VCALENDAR
BEGIN:VEVENT
SUMMARY:Indeterminate Arts Fest\, Day #2/2: 33 Chords & The Truth\, TJ Bor
 den & Regan Bowering\, Eli Shiffer's Dada Bebop Quartet\, Mo Kubbara Group
 \, patrick brennan's Transparency Kestra\, Indeterminate Orchestra [nycnoi
 se]
DTSTART:20250621T203000Z
DTEND:20250621T213000Z
UID:89ad57ff-e24e-434a-a8e5-cd98220f9729
CREATED:20260420T145247Z
DESCRIPTION:IO conducted by Nick Gianni + live &amp\; improvised projectio
 ns\, vendors\, food &amp\; more
LOCATION:living gallery (1094 broadway\, brooklyn)
END:VEVENT
END:VCALENDAR
