BEGIN:VCALENDAR
BEGIN:VEVENT
SUMMARY:ACMP x Uptown Out present The Great Indoor Make Music NY Community
  Play-In: 12 Houses Chamber Ensemble (Matt Lavelle\, Chris Forbes\, Hillia
 rd Greene\, Mary Cherney\, Ras Burnett\, Will Glass\, Stephanie Griffin) [
 nycnoise]
DTSTART:20250621T193000Z
DTEND:20250621T203000Z
UID:b1f856ab-a52b-495f-b96a-475c60fcca48
CREATED:20260420T145349Z
DESCRIPTION:3:30pm improv workshop w/ Matt Lavelle\, Chris Forbes\, Hillia
 rd Greene\; 5pm play along with Lavelle's 12 Houses
LOCATION:recirculation (876 Riverside Dr\, New York\, NY 10032)
END:VEVENT
END:VCALENDAR
