BEGIN:VCALENDAR
BEGIN:VEVENT
SUMMARY:Sudden Somethings: 2nd Bi-annual Some Things From Nothing Ad-Hoc\,
  Night #2/2 [nycnoise]
DTSTART:20250628T230000Z
DTEND:20250629T000000Z
UID:27248a16-d1eb-4288-bdc0-314673143769
CREATED:20260420T145347Z
DESCRIPTION:doors close at 7:30pm\, ticket required\; "ad-hoc configuratio
 ns" of Alex Chang\, Patricia Coleman\, drow\, Ryan Ebaugh\, Nina Isabelle\
 , Kayla LaBombard\, Joshua Marquez\, Brian McCorkle\, Orchid McRae\, МJР
 III\, Keenan Ruffin\, Brody Scott\, Clock Serum\, Logan Threedouble\, pres
 ented w/ the Colloquium for Unpopular Culture\; lineup on&nbsp\;insta
LOCATION:nyu silver center (31 Washington Pl\, New York\, NY 10003)
END:VEVENT
END:VCALENDAR
