BEGIN:VCALENDAR
BEGIN:VEVENT
SUMMARY:Super Bolus VIII\, ft. MANY [nycnoise]
DTSTART:20250708T220000Z
DTEND:20250708T230000Z
UID:d90c7e30-661a-461d-88e7-a7c62237d751
CREATED:20260420T145158Z
DESCRIPTION:🇵🇸 PACBI (gold bolus) +++ finalized lineup asap\; "sonic
  buffet of improvisers ... through the western part of the grass at Fort G
 reene Park ... Audience members can find their own path"\; tentative lineu
 p incl. Aim&eacute\;e Niemann\, Andrew Livingston\, Angela Morris\, Anne R
 hodes\, Brian McCorkle\, Charlotte Munn-Wood\, Cory Bracken\, Jeff Tobias\
 , Joe White\, John King\, Meaghan Burke\, Paul Pinto\, Sugar Vendil
LOCATION:fort greene park (Dekalb Avenue &\, S Portland Ave\, 11205)
END:VEVENT
END:VCALENDAR
