BEGIN:VCALENDAR
BEGIN:VEVENT
SUMMARY:WFMUnion Pool Showcase: Cyanide Tooth\, Kilynn Lunsford\, The Pigg
 ies\, WFMU DJs Mona & Jessica [nycnoise]
DTSTART:20250617T230000Z
DTEND:20250618T000000Z
UID:407e9849-49a4-4aca-a529-6a6a6db37643
CREATED:20260420T145328Z
DESCRIPTION:
LOCATION:union pool (484 union ave\, brooklyn)
END:VEVENT
END:VCALENDAR
