BEGIN:VCALENDAR
BEGIN:VEVENT
SUMMARY:Pride Month Battle of the Bands: Chatterbox\, First President of J
 apan\, S and R\, Teddy Hold On\, Trick the Riddle\, Two Headed Girl [nycno
 ise]
DTSTART:20250622T223000Z
DTEND:20250622T233000Z
UID:c8c29b00-8ffd-4ff7-b1b3-4cb6c4019e36
CREATED:20260420T145156Z
DESCRIPTION:🇵🇸 PACBI
LOCATION:purgatory (675 central ave\, brooklyn)
END:VEVENT
END:VCALENDAR
