BEGIN:VCALENDAR
BEGIN:VEVENT
SUMMARY:PIXELMOUTH: 'The Enfleshment' [nycnoise]
DTSTART:20250621T000000Z
DTEND:20250621T010000Z
UID:3ffb5720-b887-4145-841c-160e49b88ec7
CREATED:20260420T145349Z
DESCRIPTION:performances by Buffy\, J Alex Ray\, Andrea Soto\, Jonah Knapp
 -Wilson\; installations by Kristen Marcinek\, Aiyo Cheboi\, J\, Erica Enri
 quez\, Caroline Solakian\, Chris Golub/Anna Antonia Yiaxi Savvidow\, Nat R
 oberts\, Zhuoyu Zhang
LOCATION:grace exhibition space (182 ave c\, manhattan)
END:VEVENT
END:VCALENDAR
