BEGIN:VCALENDAR
BEGIN:VEVENT
SUMMARY:Sunbathing: Chris Waldt\, Perrin Grace\, BIFA01\, Owt Rocnes\, Cyp
 ress Sanctum [nycnoise]
DTSTART:20250709T010000Z
DTEND:20250709T020000Z
UID:4d660516-50cf-4133-9829-e72dd7a8c6b5
CREATED:20260420T163855Z
DESCRIPTION:🌀 free before 10pm
LOCATION:rash (941 Willoughby Ave\, Brooklyn\, NY 11221)
END:VEVENT
END:VCALENDAR
