BEGIN:VCALENDAR
BEGIN:VEVENT
SUMMARY:Love From The Sun Juneteenth: Analog Soul\, Honey Bun\, Lovie\, Sh
 yboi\, Stonie Blue\, & More [nycnoise]
DTSTART:20250619T170000Z
DTEND:20250619T180000Z
UID:576eb009-ab8b-4d97-84ec-4639c539076c
CREATED:20260420T145302Z
DESCRIPTION:
LOCATION:nowadays (56-06 cooper ave\, ridgewood)
END:VEVENT
END:VCALENDAR
