BEGIN:VCALENDAR
BEGIN:VEVENT
SUMMARY:Aesop's Sound Fables: Strange Animations [nycnoise]
DTSTART:20250720T230000Z
DTEND:20250721T000000Z
UID:764f4d8e-28cf-4cb0-963a-cc89fbfe7447
CREATED:20260420T164157Z
DESCRIPTION:
LOCATION:cassette (68-38 forest ave bsmt\, ridgewood)
END:VEVENT
END:VCALENDAR
