BEGIN:VCALENDAR
BEGIN:VEVENT
SUMMARY:Lina Tullgren\, Anna Fox Rochinski\, Frances Chang [nycnoise]
DTSTART:20250727T233000Z
DTEND:20250728T003000Z
UID:7ef575d3-8df1-43d9-b834-ae2f968f9795
CREATED:20260420T145256Z
DESCRIPTION:
LOCATION:cassette (68-38 forest ave bsmt\, ridgewood)
END:VEVENT
END:VCALENDAR
