BEGIN:VCALENDAR
BEGIN:VEVENT
SUMMARY:Swaggotfest: Julie Casablancas & Latina Croft\, Kelpy Cathedral\, 
 Korra Rain\, Meadow Le'Elle\, R3DN3CKPR1NC3SS\, & many more [nycnoise]
DTSTART:20250620T230000Z
DTEND:20250621T000000Z
UID:b66a02e0-5511-4ee2-b88c-084764ef95c1
CREATED:20260420T145503Z
DESCRIPTION:
LOCATION:nyc resistor (87 3rd Ave\, Brooklyn\, NY 11217)
END:VEVENT
END:VCALENDAR
