BEGIN:VCALENDAR
BEGIN:VEVENT
SUMMARY:Ledah Finck + Gabriel Zucker play Brahms\, Bret Schneider\, Daniel
  Kleederman [nycnoise]
DTSTART:20250628T233000Z
DTEND:20250629T003000Z
UID:a268cb8c-cf0b-45c4-88d3-4a3350617500
CREATED:20260420T145504Z
DESCRIPTION:7pm doors
LOCATION:g's louise (643 e. 7th st.\, kensington\, bklyn)
END:VEVENT
END:VCALENDAR
