BEGIN:VCALENDAR
BEGIN:VEVENT
SUMMARY:Unscripted Soundscapes: SJ Fleish\, Septet (Ayumi Ishito\, Kate Mo
 hanty\, Nicole Connelly\, Jen Sapiro\, Fleish\, Yuko Togami\, Alex Lozupon
 e)\, Sextet (Daniel Carter\, Jeff Pearring\, Ishito\, Togami\, Zach Swanso
 n\, Ken Kobayashi) [nycnoise]
DTSTART:20250628T220000Z
DTEND:20250628T230000Z
UID:cab9c436-df72-46cd-bc21-80e6c7efb269
CREATED:20260420T145419Z
DESCRIPTION:
LOCATION:ibeam (168 7th st.\, brooklyn)
END:VEVENT
END:VCALENDAR
