BEGIN:VCALENDAR
BEGIN:VEVENT
SUMMARY:Lipsticism\, WHAIT (more eaze & Wendy Eisenberg)\, Devin Shaffer [
 nycnoise]
DTSTART:20250714T230000Z
DTEND:20250715T000000Z
UID:14402546-deb0-442b-99e3-d0c78db183a7
CREATED:20260420T145337Z
DESCRIPTION:6:30pm doors
LOCATION:night club 101 (101 avenue a\, manhattan)
END:VEVENT
END:VCALENDAR
