BEGIN:VCALENDAR
BEGIN:VEVENT
SUMMARY:sweethearts club: Sobolik\, kk.Shucko\, girlskissing.mp3\, Mengze\
 , nguyendowsXP [nycnoise]
DTSTART:20250702T230000Z
DTEND:20250703T000000Z
UID:bea2f4b5-af6d-4e85-96f7-5d56280e90d7
CREATED:20260420T145325Z
DESCRIPTION:🇵🇸 PACBI +++ 🌀 notaflof work trade
LOCATION:light & sound design
END:VEVENT
END:VCALENDAR
