BEGIN:VCALENDAR
BEGIN:VEVENT
SUMMARY:Soup & Sound presents: Adegoke Steve Colson & Iqua Colson Quartet 
 (w/ Mark Helias\, Ronnie Burrage) [nycnoise]
DTSTART:20250711T233000Z
DTEND:20250712T003000Z
UID:f3ae47ec-af7d-42db-a6ca-0d1a0bbc0f78
CREATED:20260420T164157Z
DESCRIPTION:
LOCATION:greenwich house music school (46 barrow st.\, manhattan)
END:VEVENT
END:VCALENDAR
