BEGIN:VCALENDAR
BEGIN:VEVENT
SUMMARY:David First: A Tone Pool Meditation [nycnoise]
DTSTART:20250715T230000Z
DTEND:20250716T000000Z
UID:4c27fe22-e60e-491c-a1fb-15ecbbc88222
CREATED:20260420T164158Z
DESCRIPTION:🇵🇸 PACBI +++ 🌀 notaflof work trade
LOCATION:light & sound design
END:VEVENT
END:VCALENDAR
