BEGIN:VCALENDAR
BEGIN:VEVENT
SUMMARY:EÒNAN\, CSILLA\, Young Male [nycnoise]
DTSTART:20250706T020000Z
DTEND:20250706T030000Z
UID:fbccc529-0621-4aed-a07c-768153e9b9b4
CREATED:20260420T145419Z
DESCRIPTION:🇵🇸 PACBI
LOCATION:bossa nova civic club (1271 myrtle ave\, brooklyn)
END:VEVENT
END:VCALENDAR
