BEGIN:VCALENDAR
BEGIN:VEVENT
SUMMARY:Pool 53: Aaron Rubinstein / Kenneth Jimenez / Kevin Murray\, Lemue
 l Marc / Grant Beale / T.J. Borden\, Sandy Ewen / Matt Nelson / Tim Dahl /
  Kevin Shea [nycnoise]
DTSTART:20250718T233000Z
DTEND:20250719T003000Z
UID:98004fb4-5645-45d8-baff-ab227a877274
CREATED:20260420T164158Z
DESCRIPTION:🇵🇸 PACBI +++ insta tags for lineup
LOCATION:record shop (360 van brunt st.\, brooklyn)
END:VEVENT
END:VCALENDAR
