BEGIN:VCALENDAR
BEGIN:VEVENT
SUMMARY:Prospect Series House Show #49: Jack Wright / Evan Lipson / Mike P
 ride\, Jonathan Moritz Trio Secret Tempo (w/ Shayna Dulberger\, Mike Pride
 )\, Jose Fernando Solares / Samantha Kochis / Brandon Lopez [nycnoise]
DTSTART:20250726T000000Z
DTEND:20250726T010000Z
UID:61a6aec9-070d-43c4-9583-9ebfb5c286a8
CREATED:20260420T145341Z
DESCRIPTION:7:30pm doors
LOCATION:prospect series apt (1923 8th ave (corner of 20th st.)\, south sl
 ope\, bklyn)
END:VEVENT
END:VCALENDAR
