BEGIN:VCALENDAR
BEGIN:VEVENT
SUMMARY:Bag People\, Luna Honey\, Norman Westberg [nycnoise]
DTSTART:20250716T000000Z
DTEND:20250716T010000Z
UID:a7ad77c4-9cd9-4e0f-b3da-e858c0cb8634
CREATED:20260420T145140Z
DESCRIPTION:
LOCATION:main drag (before oct 2025) (50 s. 1st st.\, brooklyn)
END:VEVENT
END:VCALENDAR
