BEGIN:VCALENDAR
BEGIN:VEVENT
SUMMARY:Untitled Noise Night (Album Release)\, Different Plants\, Cal Fish
 \, Inbio [nycnoise]
DTSTART:20250630T230000Z
DTEND:20250701T000000Z
UID:0d02499d-daed-43cd-97bd-0d968b0ff31f
CREATED:20260420T145326Z
DESCRIPTION:
LOCATION:subterranea at ridgewood presby church (59-14 70th ave\, ridgewoo
 d)
END:VEVENT
END:VCALENDAR
