BEGIN:VCALENDAR
BEGIN:VEVENT
SUMMARY:Nonstop: crystalmess\, JADALAREIGN\, MORENXXX\, OK Williams b2b Sh
 yboi\, Robert Armani [nycnoise]
DTSTART:20250727T020000Z
DTEND:20250727T030000Z
UID:0584a21b-cee0-4baf-9676-8beec30ccf1e
CREATED:20260420T145607Z
DESCRIPTION:
LOCATION:nowadays (56-06 cooper ave\, ridgewood)
END:VEVENT
END:VCALENDAR
