BEGIN:VCALENDAR
BEGIN:VEVENT
SUMMARY:Collective Effort NYC presents: Vomit Fist\, Dead Hour Noise\, Orp
 han Donor\, Bayht Lahm\, Respirator [nycnoise]
DTSTART:20250724T230000Z
DTEND:20250725T000000Z
UID:72c7d1d6-777f-4514-b5c8-1adb264f49c7
CREATED:20260420T145302Z
DESCRIPTION:
LOCATION:gold sounds (44 wilson ave\, brooklyn)
END:VEVENT
END:VCALENDAR
