BEGIN:VCALENDAR
BEGIN:VEVENT
SUMMARY:Warm Up: Mike Q\, DJ Empress\, Alex Zhang Hungai & Tashi Dorji\, L
 YDO [nycnoise]
DTSTART:20250718T200000Z
DTEND:20250718T210000Z
UID:a2a1196c-14f8-4d56-b01b-5e3db4df7151
CREATED:20260420T164141Z
DESCRIPTION:$30 day-of
LOCATION:moma ps1 (22-25 jackson ave\, long island city)
END:VEVENT
END:VCALENDAR
