BEGIN:VCALENDAR
BEGIN:VEVENT
SUMMARY:Warm Up: Eric D. Clark\, OK Williams\, DJ Spanish Fly\, Masaaki [n
 ycnoise]
DTSTART:20250801T200000Z
DTEND:20250801T210000Z
UID:541b480d-caf0-4c65-bc10-2ea94beb8a81
CREATED:20260420T145346Z
DESCRIPTION:$30 day-of
LOCATION:moma ps1 (22-25 jackson ave\, long island city)
END:VEVENT
END:VCALENDAR
