BEGIN:VCALENDAR
BEGIN:VEVENT
SUMMARY:Warm Up: Special Request\, Nguzunguzu\, Authentically Plastic\, NE
 W YORK [nycnoise]
DTSTART:20250815T200000Z
DTEND:20250815T210000Z
UID:d373b19d-3950-403d-9019-d4af4c754aae
CREATED:20260420T145321Z
DESCRIPTION:$30 day-of
LOCATION:moma ps1 (22-25 jackson ave\, long island city)
END:VEVENT
END:VCALENDAR
