BEGIN:VCALENDAR
BEGIN:VEVENT
SUMMARY:Warm Up: DJ Stingray 313\, DJ Travella\, Natural Wonder Beauty Con
 cept\, xexexe\\halfpet [nycnoise]
DTSTART:20250822T200000Z
DTEND:20250822T210000Z
UID:9f6c305c-a353-4a61-a011-6a4d5ce5640e
CREATED:20260420T145330Z
DESCRIPTION:$30 day-of
LOCATION:moma ps1 (22-25 jackson ave\, long island city)
END:VEVENT
END:VCALENDAR
