BEGIN:VCALENDAR
BEGIN:VEVENT
SUMMARY:Union Pool x Academy Records present SUMMER THUNDER: L’Rain\, 13
 th Law [nycnoise]
DTSTART:20250713T180000Z
DTEND:20250713T190000Z
UID:d77f43a7-969f-455b-8139-7c9ee8ec43eb
CREATED:20260420T164141Z
DESCRIPTION:courtyard zone\, "first come first served\, entrance based on 
 capacity"
LOCATION:union pool (484 union ave\, brooklyn)
END:VEVENT
END:VCALENDAR
