BEGIN:VCALENDAR
BEGIN:VEVENT
SUMMARY:Union Pool x Academy Records present SUMMER THUNDER: Hannah Cohen\
 , Evan Wright [nycnoise]
DTSTART:20250720T180000Z
DTEND:20250720T190000Z
UID:f697dfdb-9d79-49c8-b958-01d3b4986a8a
CREATED:20260420T164111Z
DESCRIPTION:courtyard zone\, "first come first served\, entrance based on 
 capacity"
LOCATION:union pool (484 union ave\, brooklyn)
END:VEVENT
END:VCALENDAR
