BEGIN:VCALENDAR
BEGIN:VEVENT
SUMMARY:Union Pool x Academy Records present SUMMER THUNDER: Alex Amen\, Y
 oubet\, h. pruz [nycnoise]
DTSTART:20250727T180000Z
DTEND:20250727T190000Z
UID:0506cfad-8494-4b7b-84fd-72b04c93f42d
CREATED:20260420T145141Z
DESCRIPTION:courtyard zone\, "first come first served\, entrance based on 
 capacity"
LOCATION:union pool (484 union ave\, brooklyn)
END:VEVENT
END:VCALENDAR
