BEGIN:VCALENDAR
BEGIN:VEVENT
SUMMARY:$quib\, Bug Bus Piano\, fdsdf\, Grant Mg [nycnoise]
DTSTART:20250706T233000Z
DTEND:20250707T003000Z
UID:12771fc5-e300-435d-8bf6-3e5d736595a0
CREATED:20260420T145158Z
DESCRIPTION:7pm doors
LOCATION:cassette (68-38 forest ave bsmt\, ridgewood)
END:VEVENT
END:VCALENDAR
