BEGIN:VCALENDAR
BEGIN:VEVENT
SUMMARY:watergh0St\, Hallcat\, HIT [nycnoise]
DTSTART:20250709T000000Z
DTEND:20250709T010000Z
UID:8a4f1ddf-78f9-4412-aac7-8b989dc4b297
CREATED:20260420T145139Z
DESCRIPTION:7pm doors
LOCATION:cassette (68-38 forest ave bsmt\, ridgewood)
END:VEVENT
END:VCALENDAR
