BEGIN:VCALENDAR
BEGIN:VEVENT
SUMMARY:SUMMER SCUM 10\, Night #1/2\, ft. MANY [nycnoise]
DTSTART:20250711T230000Z
DTEND:20250712T000000Z
UID:a43df317-1bfb-4d18-8a3f-a37f17eefc29
CREATED:20260420T163856Z
DESCRIPTION:Government Alpha\, Crash At Every Speed\, Sickness\, Kiran Aro
 ra\, Stroker\, Ploughshare\, Schema 7\, Jacob Winans\, Love Free Spirit\, 
 Scant + DJs Vivid Oblivion &amp\; Octonomy
LOCATION:tv eye (1647 Weirfield St\, Ridgewood\, NY 11385)
END:VEVENT
END:VCALENDAR
