BEGIN:VCALENDAR
BEGIN:VEVENT
SUMMARY:Oneida\, Neptune\, Upper Wilds\, Chaser [nycnoise]
DTSTART:20250713T230000Z
DTEND:20250714T000000Z
UID:1cbccea9-2a9f-46db-b11a-e94ffb76859c
CREATED:20260420T145259Z
DESCRIPTION:
LOCATION:tv eye (1647 Weirfield St\, Ridgewood\, NY 11385)
END:VEVENT
END:VCALENDAR
