BEGIN:VCALENDAR
BEGIN:VEVENT
SUMMARY:The Scene is Now\, Corset Lore\, Voodini [nycnoise]
DTSTART:20250705T200000Z
DTEND:20250705T210000Z
UID:8377b7f0-858c-46d4-b167-830336d1942b
CREATED:20260420T164142Z
DESCRIPTION:
LOCATION:mama tried (787 3rd ave\, brooklyn)
END:VEVENT
END:VCALENDAR
