BEGIN:VCALENDAR
BEGIN:VEVENT
SUMMARY:Leopardo\, Danny Arakaki Band\, Childless [nycnoise]
DTSTART:20250719T200000Z
DTEND:20250719T210000Z
UID:8e309e01-8d0e-45b9-a614-13979593cc6a
CREATED:20260420T164008Z
DESCRIPTION:
LOCATION:mama tried (787 3rd ave\, brooklyn)
END:VEVENT
END:VCALENDAR
