BEGIN:VCALENDAR
BEGIN:VEVENT
SUMMARY:Artifact Experimental: MV Carbon\, Ben Shirken\, as.dB + Andy Pitc
 her [nycnoise]
DTSTART:20250716T000000Z
DTEND:20250716T010000Z
UID:59bf0984-c126-4706-af40-7ada5fda63f7
CREATED:20260420T164142Z
DESCRIPTION:7pm doors
LOCATION:sleepwalk (251 bushwick ave\, brooklyn)
END:VEVENT
END:VCALENDAR
