BEGIN:VCALENDAR
BEGIN:VEVENT
SUMMARY:Nadah El-Shazly [nycnoise]
DTSTART:20250917T000000Z
DTEND:20250917T010000Z
UID:95b41b21-766e-4d24-aca9-f8568f3d2b5f
CREATED:20260420T163340Z
DESCRIPTION:7pm / $30 doors\; LIVESTREAM
LOCATION:roulette (509 atlantic ave\, brooklyn)
END:VEVENT
END:VCALENDAR
