BEGIN:VCALENDAR
BEGIN:VEVENT
SUMMARY:Mary Halvorson’s Amaryllis Sextet: About Ghosts (w/ Adam O’Far
 rill\, Jacob Garchik\, Patricia Brennan\, Nick Dunston\, Tomas Fujiwara\, 
 Immanuel Wilkins\, Brian Settles) [nycnoise]
DTSTART:20250922T000000Z
DTEND:20250922T010000Z
UID:c74cebf9-5518-466e-aac8-e4157e9e130e
CREATED:20260420T163137Z
DESCRIPTION:7pm / $30 doors\; LIVESTREAM
LOCATION:roulette (509 atlantic ave\, brooklyn)
END:VEVENT
END:VCALENDAR
