BEGIN:VCALENDAR
BEGIN:VEVENT
SUMMARY:Julia Santoli\, Rat Henry\, CBS\, Invisible Cities [nycnoise]
DTSTART:20250709T233000Z
DTEND:20250710T003000Z
UID:6b10c828-5570-4502-a829-c2d7d468b93d
CREATED:20260420T145136Z
DESCRIPTION:7pm doors
LOCATION:[RIP] rabbit hole evergreen (513 Evergreen Ave\, Brooklyn\, NY 11
 221)
END:VEVENT
END:VCALENDAR
