BEGIN:VCALENDAR
BEGIN:VEVENT
SUMMARY:Stupid wish\, untitled noise night\, Lex Walton\, I’ve never bee
 n here before [nycnoise]
DTSTART:20250724T000000Z
DTEND:20250724T010000Z
UID:d6120a8d-d7df-4b91-8cbf-19df26890e72
CREATED:20260420T145144Z
DESCRIPTION:link to flyer
LOCATION:trash bridge
END:VEVENT
END:VCALENDAR
