BEGIN:VCALENDAR
BEGIN:VEVENT
SUMMARY:James K\, Ayegy\, country girl (DJ) [nycnoise]
DTSTART:20250702T010000Z
DTEND:20250702T020000Z
UID:f08f1955-48be-4339-a498-b12e5e36057a
CREATED:20260420T145137Z
DESCRIPTION:
LOCATION:[RIP] earthly delights (5738 Myrtle Ave\, Ridgewood\, NY 11385)
END:VEVENT
END:VCALENDAR
