BEGIN:VCALENDAR
BEGIN:VEVENT
SUMMARY:Poetic Aesthetics: Rute Ventura & Hans Young Binter [nycnoise]
DTSTART:20250725T230000Z
DTEND:20250726T000000Z
UID:62d6873f-d472-4013-888b-847db6caf699
CREATED:20260420T145212Z
DESCRIPTION:
LOCATION:dada (6047 Myrtle Ave\, Queens\, NY 11385)
END:VEVENT
END:VCALENDAR
