BEGIN:VCALENDAR
BEGIN:VEVENT
SUMMARY:Davis #3/3: On Ka'a Davis / Ali Ali / Donald Sturge McKenzie II / 
 Diallo House [nycnoise]
DTSTART:20250706T003000Z
DTEND:20250706T013000Z
UID:7bb416e3-275b-47e3-a9e4-9942c7318f8b
CREATED:20260420T145326Z
DESCRIPTION:
LOCATION:stone (55 w. 13th st.\, manhattan)
END:VEVENT
END:VCALENDAR
