BEGIN:VCALENDAR
BEGIN:VEVENT
SUMMARY:'Commune' Screening + Elliott Sharp [nycnoise]
DTSTART:20250711T230000Z
DTEND:20250712T000000Z
UID:0db0bd6f-2d3a-4211-b3e2-f3d0de4d2855
CREATED:20260420T164142Z
DESCRIPTION:
LOCATION:firehouse cinema (87 Lafayette St\, New York\, NY 10013\, United 
 States)
END:VEVENT
END:VCALENDAR
