BEGIN:VCALENDAR
BEGIN:VEVENT
SUMMARY:Memorial for Susan Alcorn\, ft. Friends & Admirers: Leila Bordreui
 l\, Nels Cline\, Mary Halvorson\, Patrick Holmes\, Shahzad Ismaily\, Ingri
 d Laubrock\, Ava Mendoza\, Laura Ortman\, Ryan Sawyer\, Catherine Sikora\,
  Nate Wooley [nycnoise]
DTSTART:20250731T000000Z
DTEND:20250731T010000Z
UID:4c83c2c2-4894-49bc-9f8f-fde1e7ad9f33
CREATED:20260420T145140Z
DESCRIPTION:RIP to a much-beloved real one!!!
LOCATION:zürcher gallery (33 bleecker st.\, manhattan)
END:VEVENT
END:VCALENDAR
