BEGIN:VCALENDAR
BEGIN:VEVENT
SUMMARY:Sarah Bernstein Quartet\, Adam Lane Band [nycnoise]
DTSTART:20250717T000000Z
DTEND:20250717T010000Z
UID:c18dabfb-519f-4709-a9f8-75f8fa0dbad0
CREATED:20260420T164038Z
DESCRIPTION:SB w/ Ron Stabinsky\, Stuart Popejoy\, Satoshi Takeishi\; AL w
 / Nick Lyons\, Sana Nagano\, Vijay Anderson
LOCATION:ibeam (168 7th st.\, brooklyn)
END:VEVENT
END:VCALENDAR
