BEGIN:VCALENDAR
BEGIN:VEVENT
SUMMARY:José Fernando Solares\, Stan Zenkov / Rocío Sánchez / Orchid Mc
 Rae [nycnoise]
DTSTART:20250717T230000Z
DTEND:20250718T000000Z
UID:87ee959d-27b3-4fc6-8d68-71a9fc813203
CREATED:20260420T164039Z
DESCRIPTION:🇵🇸 PACBI
LOCATION:brothers wash & dry laundromat (5420 nurge ave\, queens)
END:VEVENT
END:VCALENDAR
